BEGIN:VCALENDAR
VERSION:2.0
PRODID:-//Suomen Kuurojen Urheiluliitto ry - ECPv6.15.20//NONSGML v1.0//EN
CALSCALE:GREGORIAN
METHOD:PUBLISH
X-ORIGINAL-URL:https://www.skul.org
X-WR-CALDESC:Tapahtumat Suomen Kuurojen Urheiluliitto ry
REFRESH-INTERVAL;VALUE=DURATION:PT1H
X-Robots-Tag:noindex
X-PUBLISHED-TTL:PT1H
BEGIN:VTIMEZONE
TZID:Europe/Helsinki
BEGIN:DAYLIGHT
TZOFFSETFROM:+0200
TZOFFSETTO:+0300
TZNAME:EEST
DTSTART:20210328T010000
END:DAYLIGHT
BEGIN:STANDARD
TZOFFSETFROM:+0300
TZOFFSETTO:+0200
TZNAME:EET
DTSTART:20211031T010000
END:STANDARD
BEGIN:DAYLIGHT
TZOFFSETFROM:+0200
TZOFFSETTO:+0300
TZNAME:EEST
DTSTART:20220327T010000
END:DAYLIGHT
BEGIN:STANDARD
TZOFFSETFROM:+0300
TZOFFSETTO:+0200
TZNAME:EET
DTSTART:20221030T010000
END:STANDARD
BEGIN:DAYLIGHT
TZOFFSETFROM:+0200
TZOFFSETTO:+0300
TZNAME:EEST
DTSTART:20230326T010000
END:DAYLIGHT
BEGIN:STANDARD
TZOFFSETFROM:+0300
TZOFFSETTO:+0200
TZNAME:EET
DTSTART:20231029T010000
END:STANDARD
BEGIN:DAYLIGHT
TZOFFSETFROM:+0200
TZOFFSETTO:+0300
TZNAME:EEST
DTSTART:20240331T010000
END:DAYLIGHT
BEGIN:STANDARD
TZOFFSETFROM:+0300
TZOFFSETTO:+0200
TZNAME:EET
DTSTART:20241027T010000
END:STANDARD
END:VTIMEZONE
BEGIN:VEVENT
DTSTART;VALUE=DATE:20230916
DTEND;VALUE=DATE:20230918
DTSTAMP:20260423T051217
CREATED:20230222T085019Z
LAST-MODIFIED:20230222T085019Z
UID:10000194-1694822400-1694995199@www.skul.org
SUMMARY:Respecta Tour Finaali
DESCRIPTION:Golfliiton Respecta Tour-kisat\n \nGolfliitto järjestää Respecta Tour-kisoja\, jotka ovat avoimia myös kuulovammaisille. Kilpailukiertueen lisätietoja ja aikataulut löytyvät:\nhttps://golf.fi/kilpagolf/kiertueet/e-tour/\n\nRespecta Tour-kilpailu on yksi niistä ranking- järjestelmään kuuluvista kilpailuista\, jonka perusteella valitaan Suomen edustajat kuurojen tuleviin EM-\, MM- ja Deaflympics-kisoihin.
URL:https://www.skul.org/tapahtuma/respecta-tour-finaali/
LOCATION:Holiday Club Golf\, Kohonkankaantie 11\, Rauha\, 55320
CATEGORIES:Golf,Kilpailu ja valmennus
ATTACH;FMTTYPE=image/jpeg:https://www.skul.org/wp-content/uploads/2023/02/image_123986672.jpg
END:VEVENT
BEGIN:VEVENT
DTSTART;VALUE=DATE:20220531
DTEND;VALUE=DATE:20220602
DTSTAMP:20260423T051217
CREATED:20220405T141122Z
LAST-MODIFIED:20220405T141122Z
UID:10000159-1653955200-1654127999@www.skul.org
SUMMARY:E-Tour 1
DESCRIPTION:Golfliiton E-Tour-kisat\n \nGolfliitto järjestää E-Tour-kisoja\, jotka ovat avoimia myös kuulovammaisille. Kilpailukiertueen lisätietoja ja aikataulut löytyvät:\n\nhttps://golf.fi/kilpagolf/kiertueet/e-tour/\n\nE-Tour 2 ja E-Tour 4 ovat Suomen mestaruuskilpailut\, joten ne poikkeavat normaaleista osakilpailuista. E-Tour-kilpailu on yksi niistä ranking- järjestelmään kuuluvista kilpailuista\, jonka perusteella valitaan Suomen edustajat kuurojen tuleviin EM-\, MM- ja Deaflympics-kisoihin.
URL:https://www.skul.org/tapahtuma/e-tour-1/
LOCATION:Kankaisten Golf Masku\, Maskuntie 281\, Masku\, 21250
CATEGORIES:Golf
END:VEVENT
END:VCALENDAR