BEGIN:VCALENDAR
VERSION:2.0
PRODID:-//Suomen Kuurojen Urheiluliitto ry - ECPv6.15.20//NONSGML v1.0//EN
CALSCALE:GREGORIAN
METHOD:PUBLISH
X-WR-CALNAME:Suomen Kuurojen Urheiluliitto ry
X-ORIGINAL-URL:https://www.skul.org
X-WR-CALDESC:Tapahtumat Suomen Kuurojen Urheiluliitto ry
REFRESH-INTERVAL;VALUE=DURATION:PT1H
X-Robots-Tag:noindex
X-PUBLISHED-TTL:PT1H
BEGIN:VTIMEZONE
TZID:Europe/Helsinki
BEGIN:DAYLIGHT
TZOFFSETFROM:+0200
TZOFFSETTO:+0300
TZNAME:EEST
DTSTART:20220327T010000
END:DAYLIGHT
BEGIN:STANDARD
TZOFFSETFROM:+0300
TZOFFSETTO:+0200
TZNAME:EET
DTSTART:20221030T010000
END:STANDARD
BEGIN:DAYLIGHT
TZOFFSETFROM:+0200
TZOFFSETTO:+0300
TZNAME:EEST
DTSTART:20230326T010000
END:DAYLIGHT
BEGIN:STANDARD
TZOFFSETFROM:+0300
TZOFFSETTO:+0200
TZNAME:EET
DTSTART:20231029T010000
END:STANDARD
BEGIN:DAYLIGHT
TZOFFSETFROM:+0200
TZOFFSETTO:+0300
TZNAME:EEST
DTSTART:20240331T010000
END:DAYLIGHT
BEGIN:STANDARD
TZOFFSETFROM:+0300
TZOFFSETTO:+0200
TZNAME:EET
DTSTART:20241027T010000
END:STANDARD
END:VTIMEZONE
BEGIN:VEVENT
DTSTART;VALUE=DATE:20230818
DTEND;VALUE=DATE:20230821
DTSTAMP:20260423T112452
CREATED:20230523T124959Z
LAST-MODIFIED:20230724T125220Z
UID:10000199-1692316800-1692575999@www.skul.org
SUMMARY:8. Kuurojen SM-Frisbeegolf 18-20.8.2023 (PELIPAIKKA VAIHTUNUT)
DESCRIPTION:Frisbeegolfin SM-kisat pelataan Vantaalla\, Varistonniityn frisbeegolfradalla 18-20.8.2023. \nViikonlopun ohjelma : \nPE 18.8.2023 klo 18 Parikisa \nLA 19.8.2023 klo 10 1. Kierros \nLA 19.8.2023 klo 16 2. Kierros \nSU 20.8.2023 klo 10 Finaalikierros \nLisätietoa ja rekisteröityminen discgolfmetrixin kautta. \nOsallistumismaksu 20 euroa ja eräpäivä on 14.8.2023. \nViimeinen ilmoittautumispäivä on 11.8.2023. \n 
URL:https://www.skul.org/tapahtuma/8-kuurojen-sm-frisbeegolf-18-20-8-2023/
LOCATION:Varistonniityn frisbeegolf\, Rystypolku 6\, Vantaa\, 01660
CATEGORIES:Frisbeegolf,SM-kilpailut
ATTACH;FMTTYPE=image/jpeg:https://www.skul.org/wp-content/uploads/2023/05/wankatfgmainoskuva.jpg
END:VEVENT
BEGIN:VEVENT
DTSTART;TZID=Europe/Helsinki:20230618T140000
DTEND;TZID=Europe/Helsinki:20230618T180000
DTSTAMP:20260423T112452
CREATED:20230526T051411Z
LAST-MODIFIED:20230526T053205Z
UID:10000201-1687096800-1687111200@www.skul.org
SUMMARY:2. Kesäfriba 2023 Cup
DESCRIPTION:Valppaan\, Heron\, Wankan\, Jalon ja Uljaksen yhteisvoimin järjestetään viikonlopun mittainen cup-kiertue kesän aikana! \nIhan kaikki ovat tervetulleita kunhan on SKUL:n alaisen urheiluseuran jäsen (esim. Jalo\, Uljas ym.) \nKiertueen ohjeet: \nAloitetaan mahtava kiertue Eerikkilän urheiluopiston frisbeegolfradalla toukokuussa 28 päivänä. \n\n1. Kisa 28.5. klo 14 Erkkilän urheiluopisto FGR\, Uljas \n2. kisa 18.6. klo 14 Karkkila FGR \, Wankat + Hero \n3. kisa 15.7. klo 11 Masku FGR\, Valpas \n4. kisa 15.7. klo 16 Mikko Rantasen FGR\, Valpas\n\n\n\nYksilökisojen top 3 palkitaan S-ryhmän lahjakorteilla\nOsallistumismaksu on 15€ koko kiertueelta.\nViimeisten osakilpailujen jälkeen vietetään cupin päättäjäiset Merimajalla\, Turun Kakskerrassa.\n\nTästä linkistä saa lisätietoja : https://discgolfmetrix.com/2485047 \n\n\nJos on kysyttävää tai sanottavaa\, voit ottaa yhteyttä cupin yhteyshenkilöihin: \nYhteyshenkilöt: \n\nValpas: Joonas Lehtimäki\nHero: Lasse Sipilä\nUljas: Jani Haapanen ja Touko Silpola (Metrix)\nRahastonhoitaja: Uljas\n\nPeli-iloa frisbeegolfin heittäjille!
URL:https://www.skul.org/tapahtuma/kesa-friba-2023-2/
LOCATION:Karkkilan frisbeegolfrarta\, Asemakatu 1\, Karkkila\, 03600
CATEGORIES:Frisbeegolf
ATTACH;FMTTYPE=image/jpeg:https://www.skul.org/wp-content/uploads/2022/08/IMG-20220805-WA0021.jpg
END:VEVENT
END:VCALENDAR