BEGIN:VCALENDAR
VERSION:2.0
PRODID:-//Suomen Kuurojen Urheiluliitto ry - ECPv6.15.20//NONSGML v1.0//EN
CALSCALE:GREGORIAN
METHOD:PUBLISH
X-ORIGINAL-URL:https://www.skul.org
X-WR-CALDESC:Tapahtumat Suomen Kuurojen Urheiluliitto ry
REFRESH-INTERVAL;VALUE=DURATION:PT1H
X-Robots-Tag:noindex
X-PUBLISHED-TTL:PT1H
BEGIN:VTIMEZONE
TZID:Europe/Helsinki
BEGIN:DAYLIGHT
TZOFFSETFROM:+0200
TZOFFSETTO:+0300
TZNAME:EEST
DTSTART:20230326T010000
END:DAYLIGHT
BEGIN:STANDARD
TZOFFSETFROM:+0300
TZOFFSETTO:+0200
TZNAME:EET
DTSTART:20231029T010000
END:STANDARD
BEGIN:DAYLIGHT
TZOFFSETFROM:+0200
TZOFFSETTO:+0300
TZNAME:EEST
DTSTART:20240331T010000
END:DAYLIGHT
BEGIN:STANDARD
TZOFFSETFROM:+0300
TZOFFSETTO:+0200
TZNAME:EET
DTSTART:20241027T010000
END:STANDARD
BEGIN:DAYLIGHT
TZOFFSETFROM:+0200
TZOFFSETTO:+0300
TZNAME:EEST
DTSTART:20250330T010000
END:DAYLIGHT
BEGIN:STANDARD
TZOFFSETFROM:+0300
TZOFFSETTO:+0200
TZNAME:EET
DTSTART:20251026T010000
END:STANDARD
END:VTIMEZONE
BEGIN:VEVENT
DTSTART;TZID=Europe/Helsinki:20241216T180000
DTEND;TZID=Europe/Helsinki:20241216T193000
DTSTAMP:20260421T200753
CREATED:20241205T113304Z
LAST-MODIFIED:20241205T113558Z
UID:10000295-1734372000-1734377400@www.skul.org
SUMMARY:Nuorten ideointi-ilta x SKUL:n nuorisotoimikunta
DESCRIPTION:SKUL:lla on uusi alue vallattuna\, ja nuorilla on oma toimikunta! Tsekkaa mainosvideo SKUL:n nuorille tarkoitetussa instagramin tilissä (skulnuoret). \nMitä juuri sinä nuorena haluaisit nähdä tai kokea? Minkälaiset tapahtumat saisivat sinut innostumaan? \nNyt sinulla on mahdollisuus vaikuttaa! Tervetuloa mukaan ideointitapaamiseen\, joka järjestetään Zoomissa maanantaina 16.12. klo 18 alkaen. Paikalla ovat toimikunnan jäsenet\, Onni ja Emmy kuullakseen teidän ajatuksianne. \nTule mukaan jakamaan ideasi – kaikki ajatukset\, toiveet ja ehdotukset ovat tärkeitä! \nZoom-linkki on tulossa lähempänä.
URL:https://www.skul.org/tapahtuma/nuorten-ideointi-ilta-x-skuln-nuorisotoimikunta/
CATEGORIES:Nuoret
ATTACH;FMTTYPE=image/jpeg:https://www.skul.org/wp-content/uploads/2024/12/1630c86d-fc4c-4ba0-b670-b6e368be0cb4-2.jpg
END:VEVENT
END:VCALENDAR